BEGIN:VCALENDAR
PRODID:https://esv.ch/
VERSION:2.0
METHOD:PUBLISH
BEGIN:VEVENT
TZID:Europe/Zurich
DTSTART:20261016T070000
DTEND:20261016T160000
LOCATION:Schwinghalle Eichli Stans
CATEGORIES:
TRANSP:OPAQUE
DTSTAMP:20261016T070000
DESCRIPTION:Abschluss - Schwinget
SUMMARY:Abschluss - Schwinget
PRIORITY:5
CLASS:PUBLIC
END:VEVENT
END:VCALENDAR